BEGIN:VCALENDAR
VERSION:2.0
PRODID:-//Mondazzi Book,  Bead &amp; Crystal - ECPv6.15.20//NONSGML v1.0//EN
CALSCALE:GREGORIAN
METHOD:PUBLISH
X-WR-CALNAME:Mondazzi Book,  Bead &amp; Crystal
X-ORIGINAL-URL:https://mondazzi.com
X-WR-CALDESC:Events for Mondazzi Book,  Bead &amp; Crystal
REFRESH-INTERVAL;VALUE=DURATION:PT1H
X-Robots-Tag:noindex
X-PUBLISHED-TTL:PT1H
BEGIN:VTIMEZONE
TZID:America/New_York
BEGIN:DAYLIGHT
TZOFFSETFROM:-0500
TZOFFSETTO:-0400
TZNAME:EDT
DTSTART:20240310T070000
END:DAYLIGHT
BEGIN:STANDARD
TZOFFSETFROM:-0400
TZOFFSETTO:-0500
TZNAME:EST
DTSTART:20241103T060000
END:STANDARD
BEGIN:DAYLIGHT
TZOFFSETFROM:-0500
TZOFFSETTO:-0400
TZNAME:EDT
DTSTART:20250309T070000
END:DAYLIGHT
BEGIN:STANDARD
TZOFFSETFROM:-0400
TZOFFSETTO:-0500
TZNAME:EST
DTSTART:20251102T060000
END:STANDARD
BEGIN:DAYLIGHT
TZOFFSETFROM:-0500
TZOFFSETTO:-0400
TZNAME:EDT
DTSTART:20260308T070000
END:DAYLIGHT
BEGIN:STANDARD
TZOFFSETFROM:-0400
TZOFFSETTO:-0500
TZNAME:EST
DTSTART:20261101T060000
END:STANDARD
END:VTIMEZONE
BEGIN:VEVENT
DTSTART;TZID=America/New_York:20250601T113000
DTEND;TZID=America/New_York:20250601T133000
DTSTAMP:20260420T011711
CREATED:20250430T185639Z
LAST-MODIFIED:20250430T185639Z
UID:6130-1748777400-1748784600@mondazzi.com
SUMMARY:Intro to Norse Runes
DESCRIPTION:Cost: $25\nTo Register Call: 860-285-0538\n*Please register in advance* \nThis class is a basic introduction to the runes of the Elder Futhark\, the alphabet/magickal symbols used by the ancient Norse peoples. We will review the history of the Norse people\, mythology that inspired the runes\, the basic meaning behind each rune and how it reflects a part of their cosmology. You will also learn a casting method that is easy for beginners. *Please bring a set of runes in order to get the most out of the class. They will also be for sale at Mondazzi’s!
URL:https://mondazzi.com/event/intro-to-norse-runes-2/
LOCATION:Mondazzi Book\, Bead & Crystal Warehouse Showroom\, 570 Hayden Station Road\, Windsor\, CT\, 06095\, United States
CATEGORIES:Workshop or Special Event
ATTACH;FMTTYPE=image/jpeg:https://mondazzi.com/wp-content/uploads/2024/04/Intro-to-Norse-Runes.jpg
END:VEVENT
BEGIN:VEVENT
DTSTART;TZID=America/New_York:20250615T113000
DTEND;TZID=America/New_York:20250615T133000
DTSTAMP:20260420T011711
CREATED:20250513T185044Z
LAST-MODIFIED:20250513T185044Z
UID:6147-1749987000-1749994200@mondazzi.com
SUMMARY:Crystal Succulent
DESCRIPTION:Crystal meet potted plant in this fun class led by Melissa! Create your own personalized crystal plant. These crystal plants help to grow positive energies where ever they are! \nClass is $30 includes wire and pot. You get to purchase or bring beads of your choice.\nPre-payment is necessary to reserve your place in class.\nPlease call us at 860-285-0538
URL:https://mondazzi.com/event/crystal-succulent/
LOCATION:Mondazzi Book\, Bead & Crystal Warehouse Showroom\, 570 Hayden Station Road\, Windsor\, CT\, 06095\, United States
CATEGORIES:Workshop or Special Event
ATTACH;FMTTYPE=image/jpeg:https://mondazzi.com/wp-content/uploads/2025/05/497451143_1103465158491287_2796706676784903114_n.jpg
END:VEVENT
BEGIN:VEVENT
DTSTART;TZID=America/New_York:20250621T100000
DTEND;TZID=America/New_York:20250621T160000
DTSTAMP:20260420T011711
CREATED:20250513T184731Z
LAST-MODIFIED:20250618T201641Z
UID:6145-1750500000-1750521600@mondazzi.com
SUMMARY:Aura Photography with Marianne MacDonald - SOLD OUT
DESCRIPTION:Sorry\, this event is sold out. Please stay tuned for future dates. \nPlease welcome Marianne MacDonald of Inner Peace Aura Photography to Mondazzi’s! She comes to us with 30 years experience as a Licensed Massage Therapist and Reiki Master. Having developed the ability to see auras around people developed into Chakra balancing and Aura Photography to show people what she was seeing. \nAura readings give you a unique glimpse into your spiritual and energetic health\, unlike any other modality. \nIf you want to understand yourself better\, and why your life may not feel aligned\, an aura reading will give you the clarity you seek.\nKnowing exactly what state your energy and aura is in allows you to understand what steps must be taken\, physically\, mentally\, emotionally\, and spiritually\, to heal yourself on multiple levels. \nReadings are $40 for 25 minutes.\n(includes an Aura Photo with full report emailed to you) \nPlease call the shop to reserve your appointment at 860-285-0538. Prepayment is necessary to hold your spot. Walk in appointments upon availability.\n24 Hour Cancellation Is Appreciated.
URL:https://mondazzi.com/event/aura-photography-with-marianne-macdonald-10/
LOCATION:Mondazzi Book\, Bead & Crystal Warehouse Showroom\, 570 Hayden Station Road\, Windsor\, CT\, 06095\, United States
CATEGORIES:Workshop or Special Event
ATTACH;FMTTYPE=image/jpeg:https://mondazzi.com/wp-content/uploads/2024/06/aura-photography-with-marianne-macdonald.jpg
END:VEVENT
BEGIN:VEVENT
DTSTART;TZID=America/New_York:20250628T100000
DTEND;TZID=America/New_York:20250628T120000
DTSTAMP:20260420T011711
CREATED:20250514T231428Z
LAST-MODIFIED:20250616T184601Z
UID:6155-1751104800-1751112000@mondazzi.com
SUMMARY:Tree of Life Sun Catcher - SOLD OUT
DESCRIPTION:Sorry\, this class is sold out. Please stay tuned for future dates. \nThis amazing Tree of Life Sun Catcher is an opportunity to personalize your own tree with beads of your choice. They can be hung indoors or outside\, adding beauty anywhere. \nClass is $35 and includes all materials (4″ ring & wire).\nTree beads/chip beads are available for sale $5 and up. \nPre-payment is necessary to reserve your place in class.\nPlease call us at 860-285-0538
URL:https://mondazzi.com/event/tree-of-life-sun-catcher/
LOCATION:Mondazzi Book\, Bead & Crystal Warehouse Showroom\, 570 Hayden Station Road\, Windsor\, CT\, 06095\, United States
CATEGORIES:Workshop or Special Event
ATTACH;FMTTYPE=image/jpeg:https://mondazzi.com/wp-content/uploads/2025/05/Tree-of-Life-Sun-Catcher.jpg
END:VEVENT
END:VCALENDAR