BEGIN:VCALENDAR
VERSION:2.0
PRODID:-//Mondazzi Book,  Bead &amp; Crystal - ECPv6.15.20//NONSGML v1.0//EN
CALSCALE:GREGORIAN
METHOD:PUBLISH
X-ORIGINAL-URL:https://mondazzi.com
X-WR-CALDESC:Events for Mondazzi Book,  Bead &amp; Crystal
REFRESH-INTERVAL;VALUE=DURATION:PT1H
X-Robots-Tag:noindex
X-PUBLISHED-TTL:PT1H
BEGIN:VTIMEZONE
TZID:America/New_York
BEGIN:DAYLIGHT
TZOFFSETFROM:-0500
TZOFFSETTO:-0400
TZNAME:EDT
DTSTART:20240310T070000
END:DAYLIGHT
BEGIN:STANDARD
TZOFFSETFROM:-0400
TZOFFSETTO:-0500
TZNAME:EST
DTSTART:20241103T060000
END:STANDARD
BEGIN:DAYLIGHT
TZOFFSETFROM:-0500
TZOFFSETTO:-0400
TZNAME:EDT
DTSTART:20250309T070000
END:DAYLIGHT
BEGIN:STANDARD
TZOFFSETFROM:-0400
TZOFFSETTO:-0500
TZNAME:EST
DTSTART:20251102T060000
END:STANDARD
BEGIN:DAYLIGHT
TZOFFSETFROM:-0500
TZOFFSETTO:-0400
TZNAME:EDT
DTSTART:20260308T070000
END:DAYLIGHT
BEGIN:STANDARD
TZOFFSETFROM:-0400
TZOFFSETTO:-0500
TZNAME:EST
DTSTART:20261101T060000
END:STANDARD
END:VTIMEZONE
BEGIN:VEVENT
DTSTART;TZID=America/New_York:20250802T100000
DTEND;TZID=America/New_York:20250802T120000
DTSTAMP:20260419T213510
CREATED:20250704T194443Z
LAST-MODIFIED:20250704T194443Z
UID:6211-1754128800-1754136000@mondazzi.com
SUMMARY:Key Chain/Bag Charm
DESCRIPTION:In this class we will create beautiful trending charms. You will personalize a key chain/bag charm utilizing crimp beads and flex wire in the process. This is a useful skill to expand your creativity abilities. \nFlex wire\, clasps and crimps are included in class. Students may bring their own beads or purchase from Mondazzi’s. We will need approximately 6-8 inches of mixed beads to complete the project. \nPre-payment is required for this class. Thank you for your understanding. Please call us at 860-285-0538 to reserve your spot in class. \nClass is $35 includes wire and crimp beads.
URL:https://mondazzi.com/event/key-chain-bag-charm/
LOCATION:Mondazzi Book\, Bead & Crystal Warehouse Showroom\, 570 Hayden Station Road\, Windsor\, CT\, 06095\, United States
CATEGORIES:Workshop or Special Event
ATTACH;FMTTYPE=image/jpeg:https://mondazzi.com/wp-content/uploads/2025/07/Key-Chain-Bag-Charm.jpg
END:VEVENT
BEGIN:VEVENT
DTSTART;TZID=America/New_York:20250802T110000
DTEND;TZID=America/New_York:20250802T150000
DTSTAMP:20260419T213510
CREATED:20250727T002616Z
LAST-MODIFIED:20250727T002616Z
UID:6258-1754132400-1754146800@mondazzi.com
SUMMARY:Meet & Greet The Stillness Project Founders
DESCRIPTION:Liz Kametz & Adrienne Gervais are authors and co-founders of the Just Be The Journey movement and The Stillness Project. \nThey are creative souls who continuously seek deeper meaning. As storyhealing guides\, they create and teach ways to support others on their journey towards inner healing and growing in soul-filling ways. \nThe vision is to share gems of wisdom through intuitively created resources like The Stillness Project\, a mindfulness journal\, so others can harness Authentic Be-ing and get unstuck. \nCome meet at this lovely location to receive a 30% off autographed copy of The Stillness Project and say hello!
URL:https://mondazzi.com/event/meet-greet-the-stillness-project-founders/
LOCATION:Mondazzi Book\, Bead & Crystal Warehouse Showroom\, 570 Hayden Station Road\, Windsor\, CT\, 06095\, United States
CATEGORIES:Workshop or Special Event
ATTACH;FMTTYPE=image/jpeg:https://mondazzi.com/wp-content/uploads/2025/07/Stillness-Project-Meet-Greet.jpg
END:VEVENT
BEGIN:VEVENT
DTSTART;TZID=America/New_York:20250810T113000
DTEND;TZID=America/New_York:20250810T130000
DTSTAMP:20260419T213510
CREATED:20250714T214024Z
LAST-MODIFIED:20250714T214024Z
UID:6217-1754825400-1754830800@mondazzi.com
SUMMARY:Intro to Mediumship
DESCRIPTION:This introductory level class is designed for beginners to learn about the practice of evidential mediumship. Learn what mediumship entails\, what it’s not\, and putting to rest unnecessary fear. Mediums use their psychic senses to receive messages and impressions from spirit. Learn basic exercises to start enhancing and trusting your own psychic senses. You will have the opportunity in class to explore receiving impressions from pictures of deceased loved ones\, personal objects belonging to people in spirit and practice sensing energies around a volunteer! \nBio: Naomi is a medium and an intuitive reader with a focus on spirit communication\, runes and tarot. She studies in the magickal arts and is part of a spiritual order. She provides readings and teaches a variety of metaphysical classes with a passion to help others embrace their own unique gifts and release what no longer serves them.
URL:https://mondazzi.com/event/intro-to-mediumship/
LOCATION:Mondazzi Book\, Bead & Crystal Warehouse Showroom\, 570 Hayden Station Road\, Windsor\, CT\, 06095\, United States
CATEGORIES:Workshop or Special Event
ATTACH;FMTTYPE=image/jpeg:https://mondazzi.com/wp-content/uploads/2025/07/Intro-to-Mediumship.jpg
END:VEVENT
BEGIN:VEVENT
DTSTART;TZID=America/New_York:20250817T113000
DTEND;TZID=America/New_York:20250817T143000
DTSTAMP:20260419T213510
CREATED:20250728T174020Z
LAST-MODIFIED:20250728T174020Z
UID:6261-1755430200-1755441000@mondazzi.com
SUMMARY:Tree of Life Sun Catcher
DESCRIPTION:This class has sold out twice! Call early to get a reservation! \nThis amazing Tree of Life Sun Catcher is an opportunity to personalize your own tree with beads of your choice. They can be hung indoors or outside\, adding beauty anywhere. \nClass is $35.00 and includes these materials (4″ ring & Wire). Tree beads/chip beads are available for sale $5 and up.\nPre-payment is necessary to reserve your place in class. \nPlease call us at 860-285-0538
URL:https://mondazzi.com/event/tree-of-life-sun-catcher-3/
LOCATION:Mondazzi Book\, Bead & Crystal Warehouse Showroom\, 570 Hayden Station Road\, Windsor\, CT\, 06095\, United States
CATEGORIES:Workshop or Special Event
ATTACH;FMTTYPE=image/jpeg:https://mondazzi.com/wp-content/uploads/2025/05/Tree-of-Life-Sun-Catcher.jpg
END:VEVENT
BEGIN:VEVENT
DTSTART;TZID=America/New_York:20250830T100000
DTEND;TZID=America/New_York:20250830T160000
DTSTAMP:20260419T213510
CREATED:20250721T205723Z
LAST-MODIFIED:20250829T210002Z
UID:6242-1756548000-1756569600@mondazzi.com
SUMMARY:Aura Photography with Marianne MacDonald - SOLD OUT
DESCRIPTION:Sorry\, all times have been booked.\nPlease stay tuned for future dates. \nPlease welcome Marianne MacDonald of Inner Peace Aura Photography to Mondazzi’s! She comes to us with 30 years experience as a Licensed Massage Therapist and Reiki Master. Having developed the ability to see auras around people developed into Chakra balancing and Aura Photography to show people what she was seeing. \nAura readings give you a unique glimpse into your spiritual and energetic health\, unlike any other modality.\nIf you want to understand yourself better\, and why your life may not feel aligned\, an aura reading will give you the clarity you seek.\nKnowing exactly what state your energy and aura is in allows you to understand what steps must be taken\, physically\, mentally\, emotionally\, and spiritually\, to heal yourself on multiple levels. \nReadings are $40 for 25 minutes.\n(includes an Aura Photo with full report emailed to you) \nPlease call the shop to reserve your appointment at 860-285-0538. Prepayment is necessary to hold your spot. Walk in appointments upon availability.\n24 Hour Cancellation Is Appreciated.
URL:https://mondazzi.com/event/aura-photography-with-marianne-macdonald-12/
LOCATION:Mondazzi Book\, Bead & Crystal Warehouse Showroom\, 570 Hayden Station Road\, Windsor\, CT\, 06095\, United States
CATEGORIES:Workshop or Special Event
ATTACH;FMTTYPE=image/jpeg:https://mondazzi.com/wp-content/uploads/2024/06/aura-photography-with-marianne-macdonald.jpg
END:VEVENT
END:VCALENDAR