BEGIN:VCALENDAR
VERSION:2.0
PRODID:-//Mondazzi Book,  Bead &amp; Crystal - ECPv6.15.20//NONSGML v1.0//EN
CALSCALE:GREGORIAN
METHOD:PUBLISH
X-ORIGINAL-URL:https://mondazzi.com
X-WR-CALDESC:Events for Mondazzi Book,  Bead &amp; Crystal
REFRESH-INTERVAL;VALUE=DURATION:PT1H
X-Robots-Tag:noindex
X-PUBLISHED-TTL:PT1H
BEGIN:VTIMEZONE
TZID:America/New_York
BEGIN:DAYLIGHT
TZOFFSETFROM:-0500
TZOFFSETTO:-0400
TZNAME:EDT
DTSTART:20250309T070000
END:DAYLIGHT
BEGIN:STANDARD
TZOFFSETFROM:-0400
TZOFFSETTO:-0500
TZNAME:EST
DTSTART:20251102T060000
END:STANDARD
BEGIN:DAYLIGHT
TZOFFSETFROM:-0500
TZOFFSETTO:-0400
TZNAME:EDT
DTSTART:20260308T070000
END:DAYLIGHT
BEGIN:STANDARD
TZOFFSETFROM:-0400
TZOFFSETTO:-0500
TZNAME:EST
DTSTART:20261101T060000
END:STANDARD
BEGIN:DAYLIGHT
TZOFFSETFROM:-0500
TZOFFSETTO:-0400
TZNAME:EDT
DTSTART:20270314T070000
END:DAYLIGHT
BEGIN:STANDARD
TZOFFSETFROM:-0400
TZOFFSETTO:-0500
TZNAME:EST
DTSTART:20271107T060000
END:STANDARD
END:VTIMEZONE
BEGIN:VEVENT
DTSTART;TZID=America/New_York:20260110T133000
DTEND;TZID=America/New_York:20260110T153000
DTSTAMP:20260419T120748
CREATED:20251230T013641Z
LAST-MODIFIED:20251230T013641Z
UID:6936-1768051800-1768059000@mondazzi.com
SUMMARY:Astrology - Just the Basics
DESCRIPTION:We are pleased to have Mary Ellen Norton teaching again! Join her to learn all about Astrology! \nAn introduction to Astrology\, where you will learn the polarities of each sign as well as the elements -earth\, air\, fire and water and what element drives you each day. There is no prior experience needed for this class. Come and explore the language of astrology for your own knowledge and dealing with other’s personalities. \nPre-payment is required for this class. Thank you for your understanding. Class is $25\nPlease call us at 860-285-0538 to reserve your spot in class.
URL:https://mondazzi.com/event/astrology-just-the-basics/
LOCATION:Mondazzi Book\, Bead & Crystal Warehouse Showroom\, 570 Hayden Station Road\, Windsor\, CT\, 06095\, United States
CATEGORIES:Workshop or Special Event
ATTACH;FMTTYPE=image/jpeg:https://mondazzi.com/wp-content/uploads/2025/12/Astrology-Just-The-Basics.jpg
END:VEVENT
BEGIN:VEVENT
DTSTART;TZID=America/New_York:20260117T100000
DTEND;TZID=America/New_York:20260117T160000
DTSTAMP:20260419T120748
CREATED:20251224T195128Z
LAST-MODIFIED:20260109T203132Z
UID:6757-1768644000-1768665600@mondazzi.com
SUMMARY:Aura Photography with Marianne MacDonald - SOLD OUT
DESCRIPTION:Sorry\, this event is sold out. Please stay tuned for future dates. \nShe sold out in December! Call early for an appointment! \nPlease welcome Marianne MacDonald of Inner Peace Aura Photography to Mondazzi’s! She comes to us with 30 years experience as a Licensed Massage Therapist and Reiki Master. Having developed the ability to see auras around people developed into Chakra balancing and Aura Photography to show people what she was seeing. \nAura readings give you a unique glimpse into your spiritual and energetic health\, unlike any other modality. \nIf you want to understand yourself better\, and why your life may not feel aligned\, an aura reading will give you the clarity you seek. \nKnowing exactly what state your energy and aura is in allows you to understand what steps must be taken\, physically\, mentally\, emotionally\, and spiritually\, to heal yourself on multiple levels.\nMarianne sells out every month\, call early for best times! \nReadings are $40 for 25 minutes.\n(includes an Aura Photo with full report emailed to you)\nPlease call the shop to reserve your appointment at 860-285-0538. Prepayment is necessary to hold your spot. Walk in appointments upon availability.\n24 Hour Cancellation Is Appreciated.
URL:https://mondazzi.com/event/aura-photography-with-marianne-macdonald-17/
LOCATION:Mondazzi Book\, Bead & Crystal Warehouse Showroom\, 570 Hayden Station Road\, Windsor\, CT\, 06095\, United States
CATEGORIES:Workshop or Special Event
ATTACH;FMTTYPE=image/jpeg:https://mondazzi.com/wp-content/uploads/2024/06/aura-photography-with-marianne-macdonald.jpg
END:VEVENT
END:VCALENDAR