BEGIN:VCALENDAR
VERSION:2.0
PRODID:-//Mondazzi Book,  Bead &amp; Crystal - ECPv6.15.20//NONSGML v1.0//EN
CALSCALE:GREGORIAN
METHOD:PUBLISH
X-ORIGINAL-URL:https://mondazzi.com
X-WR-CALDESC:Events for Mondazzi Book,  Bead &amp; Crystal
REFRESH-INTERVAL;VALUE=DURATION:PT1H
X-Robots-Tag:noindex
X-PUBLISHED-TTL:PT1H
BEGIN:VTIMEZONE
TZID:America/New_York
BEGIN:DAYLIGHT
TZOFFSETFROM:-0500
TZOFFSETTO:-0400
TZNAME:EDT
DTSTART:20250309T070000
END:DAYLIGHT
BEGIN:STANDARD
TZOFFSETFROM:-0400
TZOFFSETTO:-0500
TZNAME:EST
DTSTART:20251102T060000
END:STANDARD
BEGIN:DAYLIGHT
TZOFFSETFROM:-0500
TZOFFSETTO:-0400
TZNAME:EDT
DTSTART:20260308T070000
END:DAYLIGHT
BEGIN:STANDARD
TZOFFSETFROM:-0400
TZOFFSETTO:-0500
TZNAME:EST
DTSTART:20261101T060000
END:STANDARD
BEGIN:DAYLIGHT
TZOFFSETFROM:-0500
TZOFFSETTO:-0400
TZNAME:EDT
DTSTART:20270314T070000
END:DAYLIGHT
BEGIN:STANDARD
TZOFFSETFROM:-0400
TZOFFSETTO:-0500
TZNAME:EST
DTSTART:20271107T060000
END:STANDARD
END:VTIMEZONE
BEGIN:VEVENT
DTSTART;TZID=America/New_York:20260221T100000
DTEND;TZID=America/New_York:20260221T160000
DTSTAMP:20260419T100839
CREATED:20260119T220348Z
LAST-MODIFIED:20260121T194950Z
UID:7729-1771668000-1771689600@mondazzi.com
SUMMARY:Aura Photography with Marianne MacDonald - SOLD OUT
DESCRIPTION:Sorry\, this event is sold out. Please stay tuned for future dates. \nShe sold out in January… and now February\, a month prior to the event.  \nPlease welcome Marianne MacDonald of Inner Peace Aura Photography to Mondazzi’s! She comes to us with 30 years experience as a Licensed Massage Therapist and Reiki Master. Having developed the ability to see auras around people developed into Chakra balancing and Aura Photography to show people what she was seeing. \nAura readings give you a unique glimpse into your spiritual and energetic health\, unlike any other modality. \nIf you want to understand yourself better\, and why your life may not feel aligned\, an aura reading will give you the clarity you seek. \nKnowing exactly what state your energy and aura is in allows you to understand what steps must be taken\, physically\, mentally\, emotionally\, and spiritually\, to heal yourself on multiple levels.\nMarianne sells out every month\, call early for best times! \nReadings are $40 for 25 minutes.\n(includes an Aura Photo with full report emailed to you)\nPlease call the shop to reserve your appointment at 860-285-0538. Prepayment is necessary to hold your spot. Walk in appointments upon availability.\n24 Hour Cancellation Is Appreciated.
URL:https://mondazzi.com/event/aura-photography-with-marianne-macdonald-18/
LOCATION:Mondazzi Book\, Bead & Crystal Warehouse Showroom\, 570 Hayden Station Road\, Windsor\, CT\, 06095\, United States
CATEGORIES:Workshop or Special Event
ATTACH;FMTTYPE=image/jpeg:https://mondazzi.com/wp-content/uploads/2024/06/aura-photography-with-marianne-macdonald.jpg
END:VEVENT
BEGIN:VEVENT
DTSTART;TZID=America/New_York:20260222T120000
DTEND;TZID=America/New_York:20260222T140000
DTSTAMP:20260419T100839
CREATED:20260115T010626Z
LAST-MODIFIED:20260121T162846Z
UID:7557-1771761600-1771768800@mondazzi.com
SUMMARY:Beginners Stained Glass Class - SOLD OUT
DESCRIPTION:Sorry\, this class is sold out. Please stay tuned for future dates. \nCome join Dawn of DAB STAINED GLASS LLC at Mondazzi Books for a wonderful afternoon of learning stained glass! This will be the first of I’m sure many BEGINNER FRIENDLY stained glass classes at this brand new to me location! No Experience necessary bring only an open mind and your creativity! \nI supply everything necessary for the class. We will be making stained glass lotus flowers! You upon sign up can select what color or 2 colors you would like your lotus to be created in. I will cut\, grind\, and copper tape your lotus in my home studio and bring your pieces to class. There I will walk students thru the entire process and explain how I got that far. Next I will teach you all to solder your very own work of art. You are welcome to add the wire work and crystal as well! \nClass is limited to 20 students. NO SIGN UPS THE DAY OF.\nAll materials are included in the class Fee. \nFee is $65 per person includes everything you need to finish and take home your very own Stained glass work of art! \nYou will be asked to choose 1 – 2 colors for your stained glass at time of sign up. \nPlease call us at 860-285-0538 to reserve your spot in class. Pre-payment is necessary to hold your spot in the class.
URL:https://mondazzi.com/event/beginners-stained-glass-class/
LOCATION:Mondazzi Book\, Bead & Crystal Warehouse Showroom\, 570 Hayden Station Road\, Windsor\, CT\, 06095\, United States
CATEGORIES:Workshop or Special Event
ATTACH;FMTTYPE=image/jpeg:https://mondazzi.com/wp-content/uploads/2026/01/Beginners-Stained-Glass-Class.jpg
END:VEVENT
BEGIN:VEVENT
DTSTART;TZID=America/New_York:20260228T100000
DTEND;TZID=America/New_York:20260228T120000
DTSTAMP:20260419T100839
CREATED:20260129T210750Z
LAST-MODIFIED:20260129T210750Z
UID:7968-1772272800-1772280000@mondazzi.com
SUMMARY:Cell Phone Charm
DESCRIPTION:In this class we will create beautiful trending charms. You will personalize a cell phone charm utilizing crimp beads and flex wire in the process. This is a useful skill to expand your creativity abilities. \nFlex wire\, clasps and crimps are included in class. Students may bring their own beads or purchase from Mondazzi’s. We will need approximately 8 inches of mixed beads to complete the project. \nPre-payment is required for this class. Thank you for your understanding. Please call us at 860-285-0538 to reserve your spot in class. \nClass is $30 includes wire and crimp beads.
URL:https://mondazzi.com/event/cell-phone-charm/
LOCATION:Mondazzi Book\, Bead & Crystal Warehouse Showroom\, 570 Hayden Station Road\, Windsor\, CT\, 06095\, United States
CATEGORIES:Workshop or Special Event
ATTACH;FMTTYPE=image/jpeg:https://mondazzi.com/wp-content/uploads/2026/01/Cell-Phone-Charm.jpg
END:VEVENT
END:VCALENDAR