BEGIN:VCALENDAR
VERSION:2.0
PRODID:-//Mondazzi Book,  Bead &amp; Crystal - ECPv6.15.20//NONSGML v1.0//EN
CALSCALE:GREGORIAN
METHOD:PUBLISH
X-WR-CALNAME:Mondazzi Book,  Bead &amp; Crystal
X-ORIGINAL-URL:https://mondazzi.com
X-WR-CALDESC:Events for Mondazzi Book,  Bead &amp; Crystal
REFRESH-INTERVAL;VALUE=DURATION:PT1H
X-Robots-Tag:noindex
X-PUBLISHED-TTL:PT1H
BEGIN:VTIMEZONE
TZID:America/New_York
BEGIN:DAYLIGHT
TZOFFSETFROM:-0500
TZOFFSETTO:-0400
TZNAME:EDT
DTSTART:20250309T070000
END:DAYLIGHT
BEGIN:STANDARD
TZOFFSETFROM:-0400
TZOFFSETTO:-0500
TZNAME:EST
DTSTART:20251102T060000
END:STANDARD
BEGIN:DAYLIGHT
TZOFFSETFROM:-0500
TZOFFSETTO:-0400
TZNAME:EDT
DTSTART:20260308T070000
END:DAYLIGHT
BEGIN:STANDARD
TZOFFSETFROM:-0400
TZOFFSETTO:-0500
TZNAME:EST
DTSTART:20261101T060000
END:STANDARD
BEGIN:DAYLIGHT
TZOFFSETFROM:-0500
TZOFFSETTO:-0400
TZNAME:EDT
DTSTART:20270314T070000
END:DAYLIGHT
BEGIN:STANDARD
TZOFFSETFROM:-0400
TZOFFSETTO:-0500
TZNAME:EST
DTSTART:20271107T060000
END:STANDARD
END:VTIMEZONE
BEGIN:VEVENT
DTSTART;TZID=America/New_York:20260426T110000
DTEND;TZID=America/New_York:20260426T160000
DTSTAMP:20260421T014502
CREATED:20260329T210746Z
LAST-MODIFIED:20260329T210746Z
UID:8114-1777201200-1777219200@mondazzi.com
SUMMARY:Intuitive\, Empathic Tarot Card Reader Deborah Page
DESCRIPTION:Call early to book\, she sold out in March! \nDeborah is a Reiki Master/Teacher and an Intuitive\, Empathic Tarot card Reader.\nDeborah infuses her readings with Reiki.\nShe connects her energy with your energy and the energy of the cards\, giving you some insight into a current situation and information to help move forward. \nReadings are $35 for 30 minutes\n24 Hour Cancellation Is Appreciated.\nPlease call the shop to reserve your appointment at 860-285-0538. Prepayment is necessary to hold your spot. Walk in appointments upon availability.
URL:https://mondazzi.com/event/intuitive-empathic-tarot-card-reader-deborah-page/
LOCATION:Mondazzi Book\, Bead & Crystal Warehouse Showroom\, 570 Hayden Station Road\, Windsor\, CT\, 06095\, United States
CATEGORIES:Psychic & Other Readers
ATTACH;FMTTYPE=image/jpeg:https://mondazzi.com/wp-content/uploads/2026/01/Deborah-Page-2026.jpg
END:VEVENT
BEGIN:VEVENT
DTSTART;TZID=America/New_York:20260426T113000
DTEND;TZID=America/New_York:20260426T133000
DTSTAMP:20260421T014502
CREATED:20260316T201614Z
LAST-MODIFIED:20260316T201706Z
UID:8078-1777203000-1777210200@mondazzi.com
SUMMARY:Crystal Gem Tree Class
DESCRIPTION:Come join Melissa in her popular crystal gem tree class. In this class you will create your own gem tree using wire & chip beads. Make your own special tree by choosing one of our many beautiful crystals for sale or if you have your own crystal you wish to use feel free to bring. \nPre-payment is required for this class. Thank you for your understanding. Please call us at 860-285-0538 to reserve your spot in class. \nClass is $35 includes wire.\nChip beads and Base purchased separately. They range from $6.00 on up
URL:https://mondazzi.com/event/crystal-gem-tree-class/
LOCATION:Mondazzi Book\, Bead & Crystal Warehouse Showroom\, 570 Hayden Station Road\, Windsor\, CT\, 06095\, United States
CATEGORIES:Workshop or Special Event
ATTACH;FMTTYPE=image/jpeg:https://mondazzi.com/wp-content/uploads/2019/01/Gem-Tree-More.jpg
END:VEVENT
BEGIN:VEVENT
DTSTART;TZID=America/New_York:20260502T100000
DTEND;TZID=America/New_York:20260502T120000
DTSTAMP:20260421T014502
CREATED:20260414T211124Z
LAST-MODIFIED:20260414T211124Z
UID:8132-1777716000-1777723200@mondazzi.com
SUMMARY:Captured in Copper
DESCRIPTION:Join Melissa in this elevated wire wrap\, the netted way\, to capture your favorite crystals!\nClass is $30 and includes wire. Bring your own crystal or find a new beauty to wrap! \nPre-payment is necessary to reserve your place in class.\nPlease call us at 860-285-0538
URL:https://mondazzi.com/event/captured-in-copper-3/
LOCATION:Mondazzi Book\, Bead & Crystal Warehouse Showroom\, 570 Hayden Station Road\, Windsor\, CT\, 06095\, United States
CATEGORIES:Jewelry Classes
ATTACH;FMTTYPE=image/jpeg:https://mondazzi.com/wp-content/uploads/2025/10/Captured-in-Copper.jpg
END:VEVENT
BEGIN:VEVENT
DTSTART;TZID=America/New_York:20260502T100000
DTEND;TZID=America/New_York:20260502T170000
DTSTAMP:20260421T014502
CREATED:20260421T012635Z
LAST-MODIFIED:20260421T012635Z
UID:8165-1777716000-1777741200@mondazzi.com
SUMMARY:Kathleen Lorraine - Psychic Medium and Tarot Card Reader
DESCRIPTION:Please welcome Kathleen Lorraine\, Psychic Medium/Tarot Card Reader & Reiki Practitioner. She is the owner of An Angel’s Window Psychic Studio\, Somers\, CT \n“I am just a normal person blessed with an extraordinary gift. Although I have worked in the corporate field most of my life\, my true love is working in the spiritual world. I believe that God and the Universe guides us through our lives with the help of spirits and angels to keep us on track. \nHaving received my abilities at a young age\, I approach readings with a distinctive style.\nGuided by intuition and my spiritual guides\, I deliver true and accurate insights that deeply resonate with clients\, offering them profound clarity and answers to their questions. \nMy main focus is to bring love\, healing\, and awareness to others. I strive to guide them in opening their hearts and minds to enrich their lives with deeper meaning and fulfillment. \n“Just Believe and Watch the Magic Happen” – Kathleen Lorraine \nReadings are 25 minutes for $35. Please call us at 860-285-0538 to make your appointment. 24 hour cancellations are appreciated.
URL:https://mondazzi.com/event/kathleen-lorraine-psychic-medium-and-tarot-card-reader-8/
LOCATION:Mondazzi Book\, Bead & Crystal Warehouse Showroom\, 570 Hayden Station Road\, Windsor\, CT\, 06095\, United States
CATEGORIES:Psychic & Other Readers
ATTACH;FMTTYPE=image/jpeg:https://mondazzi.com/wp-content/uploads/2025/02/Kathleen-Lorraine-Psychic-Medium-and-Reiki-Practitioner.jpg
END:VEVENT
BEGIN:VEVENT
DTSTART;TZID=America/New_York:20260503T110000
DTEND;TZID=America/New_York:20260503T160000
DTSTAMP:20260421T014502
CREATED:20260414T212521Z
LAST-MODIFIED:20260414T212521Z
UID:8143-1777806000-1777824000@mondazzi.com
SUMMARY:Mediumship/Tarot/Rune Readings
DESCRIPTION:Naomi will connect with your spirit team and channel messages from a deceased loved one or a spirit guide (non-human energies invested in your well being) with messages about your life’s path and purpose. Using tarot and norse runes she will also provide insight on current life circumstances. \nThrough mediumship\, intuitive readings and metaphysical classes\, it’s Naomi’s goals to provide people with something they can use to connect with their deepest selves in an illuminating way. There is so much richness\, untapped potential\, support and growth with spiritual work. \nCost: $35 for 25 minutes\nTo Register Call: 860-285-0538\n*Please register in advance*\n24 Hour Cancellation is appreciated.
URL:https://mondazzi.com/event/mediumship-tarot-rune-readings-2/
LOCATION:Mondazzi Book\, Bead & Crystal Warehouse Showroom\, 570 Hayden Station Road\, Windsor\, CT\, 06095\, United States
CATEGORIES:Psychic & Other Readers
ATTACH;FMTTYPE=image/jpeg:https://mondazzi.com/wp-content/uploads/2026/04/Naomi-Mediumship-Tarot-Rune-Readings.jpg
END:VEVENT
BEGIN:VEVENT
DTSTART;TZID=America/New_York:20260509T100000
DTEND;TZID=America/New_York:20260509T160000
DTSTAMP:20260421T014502
CREATED:20260329T210943Z
LAST-MODIFIED:20260329T210943Z
UID:8116-1778320800-1778342400@mondazzi.com
SUMMARY:Aura Photography with Marianne MacDonald
DESCRIPTION:She sold out in March! Call early for an appointment! \nPlease welcome Marianne MacDonald of Inner Peace Aura Photography to Mondazzi’s! She comes to us with 30 years experience as a Licensed Massage Therapist and Reiki Master. Having developed the ability to see auras around people developed into Chakra balancing and Aura Photography to show people what she was seeing.\nAura readings give you a unique glimpse into your spiritual and energetic health\, unlike any other modality.\nIf you want to understand yourself better\, and why your life may not feel aligned\, an aura reading will give you the clarity you seek. \nKnowing exactly what state your energy and aura is in allows you to understand what steps must be taken\, physically\, mentally\, emotionally\, and spiritually\, to heal yourself on multiple levels. \nMarianne sells out every month\, call early for best times!\nReadings are $40 for 25 minutes.\n(includes an Aura Photo with full report emailed to you) \nPlease call the shop to reserve your appointment at 860-285-0538. Prepayment is necessary to hold your spot. Walk in appointments upon availability.\n24 Hour Cancellation Is Appreciated.
URL:https://mondazzi.com/event/aura-photography-with-marianne-macdonald-2/
LOCATION:Mondazzi Book\, Bead & Crystal Warehouse Showroom\, 570 Hayden Station Road\, Windsor\, CT\, 06095\, United States
CATEGORIES:Psychic & Other Readers
ATTACH;FMTTYPE=image/jpeg:https://mondazzi.com/wp-content/uploads/2025/10/Gems-and-Chakras.jpg
END:VEVENT
BEGIN:VEVENT
DTSTART;TZID=America/New_York:20260509T133000
DTEND;TZID=America/New_York:20260509T153000
DTSTAMP:20260421T014502
CREATED:20260415T194422Z
LAST-MODIFIED:20260415T194422Z
UID:8150-1778333400-1778340600@mondazzi.com
SUMMARY:Intro to Mediumship
DESCRIPTION:This introductory level class is designed for beginners to learn about the practice of evidential mediumship. Learn what mediumship entails\, what it’s not\, and putting to rest unnecessary fear. Mediums use their psychic senses to receive messages and impressions from spirit. Learn basic exercises to start enhancing and trusting your own psychic senses. You will have the opportunity in class to explore receiving impressions from pictures of deceased loved ones\, personal objects belonging to people in spirit and practice sensing energies around a volunteer! \nBio: Naomi is a medium and an intuitive reader with a focus on spirit communication\, runes and tarot. She studies in the magickal arts and is part of a spiritual order. She provides readings and teaches a variety of metaphysical classes with a passion to help others embrace their own unique gifts and release what no longer serves them. \nCost: $25\nTo register: call 860-285-0538\n*Please register in advance*
URL:https://mondazzi.com/event/intro-to-mediumship-2/
LOCATION:Mondazzi Book\, Bead & Crystal Warehouse Showroom\, 570 Hayden Station Road\, Windsor\, CT\, 06095\, United States
CATEGORIES:Workshop or Special Event
ATTACH;FMTTYPE=image/jpeg:https://mondazzi.com/wp-content/uploads/2026/04/Intro-to-Mediumship2.jpg
END:VEVENT
BEGIN:VEVENT
DTSTART;TZID=America/New_York:20260510T110000
DTEND;TZID=America/New_York:20260510T160000
DTSTAMP:20260421T014502
CREATED:20260414T212813Z
LAST-MODIFIED:20260414T212813Z
UID:8146-1778410800-1778428800@mondazzi.com
SUMMARY:Intuitive Readings with Maryellen Norton
DESCRIPTION:Call early to schedule an appointment! She sells out fast! \nMaryellen Norton Psychic Intuitive has been a reader for over 40 years. A gifted intuitive\, she specializes in tarot and psychometry (picking up vibrations and information about your life by holding a personal object of yours). Her readings examine where you are mentally\, spiritually\, physically and emotionally to reveal patterns and challenges and provide insight into your life. She’s read in a variety of venues\, including universities\, Foxwoods casino\, expos\, fairs\, and stores. \nReadings are $35 for 25 minutes\n24 Hour Cancellation Is Appreciated. \nShe books out fast\, call early!\nPlease call the shop to reserve your appointment at 860-285-0538. Prepayment is necessary to hold your spot. Walk in appointments upon availability.
URL:https://mondazzi.com/event/intuitive-readings-with-maryellen-norton-4/
LOCATION:Mondazzi Book\, Bead & Crystal Warehouse Showroom\, 570 Hayden Station Road\, Windsor\, CT\, 06095\, United States
CATEGORIES:Psychic & Other Readers
ATTACH;FMTTYPE=image/jpeg:https://mondazzi.com/wp-content/uploads/2023/10/default-2.jpg
END:VEVENT
BEGIN:VEVENT
DTSTART;TZID=America/New_York:20260516T100000
DTEND;TZID=America/New_York:20260516T170000
DTSTAMP:20260421T014502
CREATED:20260414T212950Z
LAST-MODIFIED:20260414T212950Z
UID:8148-1778925600-1778950800@mondazzi.com
SUMMARY:Dr. Patty II Beach - Tarot and Intuitive Transformational Guide
DESCRIPTION:Dr. Patty is a Doctor of Divinity and Doctor of Metaphysics & Spiritual Sciences\, and a Master Certified Tarot Reader and Intuitive Guide with over 20 years of experience in intuitive and spiritual work. As the founder of Elluminara in Westfield\, MA\, she offers tarot-centered readings that blend intuition\, clairvoyant insight\, and multiple divination modalities\, including oracle cards\, scrying\, and crystal energy. Her work focuses on presence\, pattern recognition\, and personal transformation\, supporting clients as they gain clarity around life transitions\, spiritual growth\, and inner awareness. Dr. Patty approaches her work with compassion\, empathy\, and integrity\, creating a grounded and supportive space for meaningful insight. \nReadings are 25 minutes for $35.\nPlease call us at 860-285-0538 to make your appointment. 24 hour cancellations are appreciated.
URL:https://mondazzi.com/event/dr-patty-ii-beach-tarot-and-intuitive-transformational-guide/
LOCATION:Mondazzi Book\, Bead & Crystal Warehouse Showroom\, 570 Hayden Station Road\, Windsor\, CT\, 06095\, United States
CATEGORIES:Psychic & Other Readers
ATTACH;FMTTYPE=image/jpeg:https://mondazzi.com/wp-content/uploads/2025/12/Dr-Patty-Jan-2026.jpg
END:VEVENT
BEGIN:VEVENT
DTSTART;TZID=America/New_York:20260516T133000
DTEND;TZID=America/New_York:20260516T153000
DTSTAMP:20260421T014502
CREATED:20260421T002117Z
LAST-MODIFIED:20260421T002117Z
UID:8156-1778938200-1778945400@mondazzi.com
SUMMARY:Stained Glass Mushroom in the Moonlight Class
DESCRIPTION:Come join Dawn of DAB STAINED GLASS LLC at Mondazzi Books for a wonderful afternoon of learning stained glass! This is a BEGINNER FRIENDLY Stained Glass CLASS. \nNo Experience necessary bring only an open mind and your creativity! \nI supply everything necessary for the class. We will be making stained glass Mushrooms in the Moonlight. You upon sign up can select what colors you would like your piece to be created in. I will cut\, grind\, and copper tape your piece in my home studio and bring your pieces to class. There I will walk students thru the entire process and explain how I got that far. Next I will teach you all to solder your very own work of art. \nClass is limited to 20 students. NO SIGN UPS THE DAY OF.\nAll materials are included in the class Fee.\nFee is 65$ per person includes everything you need to finish and take home your very own Stained glass work of art!\nYou will be asked to choose your colors for your stained glass piece at time of sign up. \nMushroom Cap:\nUnderside of Cap:\nMushroom Stem:\nMoon:\nBLADES OF GRASS WILL STAY GREEN AND BACKGROUND A TEXTURED CLEAR. \nPlease call us at 860-285-0538 to reserve your spot in class. Pre-payment is necessary to hold your spot in the class. ALL CLASSES ARE NON REFUNDABLE. With 24 hour notice we can move you to a different class. Thank you all so much for taking my class and making these events such a huge success.
URL:https://mondazzi.com/event/stained-glass-mushroom-in-the-moonlight-class/
LOCATION:Mondazzi Book\, Bead & Crystal Warehouse Showroom\, 570 Hayden Station Road\, Windsor\, CT\, 06095\, United States
CATEGORIES:Workshop or Special Event
ATTACH;FMTTYPE=image/jpeg:https://mondazzi.com/wp-content/uploads/2026/04/Stained-Glass-Mushroom-in-the-Moonlight-Class.jpg
END:VEVENT
BEGIN:VEVENT
DTSTART;TZID=America/New_York:20260517T110000
DTEND;TZID=America/New_York:20260517T160000
DTSTAMP:20260421T014502
CREATED:20260421T012838Z
LAST-MODIFIED:20260421T012838Z
UID:8167-1779015600-1779033600@mondazzi.com
SUMMARY:Janet Booth - Astrology\, Astro Dice and Tarot Reader
DESCRIPTION:We are pleased to welcome Janet Booth to Mondazzi’s!! Decades ago\, shortly before she was introduced to astrology\, Janet became enamored of Tarot and dove into this ancient art of understanding people’s lives and their future. Then she encountered astrology and took to it like something she’s done in multiple past lives (she has). She loves to blend the two together! Her specialty is probing the heavens for celestial signposts to provide guidance for seekers on the path to find themselves and live their lives to the fullest. Janet welcomes your questions and can peer around the corner at upcoming influences and planetary cycles to point out prime times for you to pursue your goals (your birth time is helpful but not essential). For extra fun\, roll the Astro Dice and she’ll interpret the answer. \nPlease call the store to book an appointment! 860-285-0538\nReadings are 25 minutes for $35.\n24 hour cancellations are appreciated.
URL:https://mondazzi.com/event/janet-booth-astrology-astro-dice-and-tarot-reader-2/
LOCATION:Mondazzi Book\, Bead & Crystal Warehouse Showroom\, 570 Hayden Station Road\, Windsor\, CT\, 06095\, United States
CATEGORIES:Psychic & Other Readers
ATTACH;FMTTYPE=image/jpeg:https://mondazzi.com/wp-content/uploads/2024/10/Janet-Booth-portrait-web.jpg
END:VEVENT
BEGIN:VEVENT
DTSTART;TZID=America/New_York:20260517T120000
DTEND;TZID=America/New_York:20260517T140000
DTSTAMP:20260421T014502
CREATED:20260421T002520Z
LAST-MODIFIED:20260421T002520Z
UID:8159-1779019200-1779026400@mondazzi.com
SUMMARY:Candle-Making Workshop with Summit Scent Co.
DESCRIPTION:Come join Summit Scent Co. for a Candle-Making Workshop at Mondazzi Book\, Bead & Crystal to create your very own 10 oz soy-wax candle. You will select a scent\, decorate your candle (with glitter\, dried flowers\, crystals\, etc.) and design your own label. Browse and shop at Mondazzi while your candle solidifies! \nYour instructor for this workshop is Aida Babic (I-ee-duh). Aida has been certified by the Centre of Excellence in candle-making for over two years. She has hosted numerous Candle-Making Workshops throughout CT and specializes in batch-poured soy candles that she sells at various craft fairs throughout the state. To view her creations\, visit her website\, Facebook or Instagram page (@summitscentco). \nSummit Scent Co. believes candles are more than just a product you light for ambiance or for pretty scents – but they have the power to evoke emotion and affect your mood – elevating you to become your highest self! \nReservation fee is $45 and includes all materials.\nPlease call Mondazzi to reserve your spot at 860-285-0538.\nPre-payment is necessary to hold your spot. We look forward to seeing you there for this unique and memorable event!\nIf you must cancel your reservation\, a 24-cancellation policy is enforced. Thank you for your understanding.
URL:https://mondazzi.com/event/candle-making-workshop-with-summit-scent-co/
LOCATION:Mondazzi Book\, Bead & Crystal Warehouse Showroom\, 570 Hayden Station Road\, Windsor\, CT\, 06095\, United States
CATEGORIES:Workshop or Special Event
ATTACH;FMTTYPE=image/jpeg:https://mondazzi.com/wp-content/uploads/2026/04/Candle-Making-Workshop.jpg
END:VEVENT
BEGIN:VEVENT
DTSTART;TZID=America/New_York:20260523T100000
DTEND;TZID=America/New_York:20260523T120000
DTSTAMP:20260421T014502
CREATED:20260414T211434Z
LAST-MODIFIED:20260414T211434Z
UID:8134-1779530400-1779537600@mondazzi.com
SUMMARY:Wrap & Weave
DESCRIPTION:Join Melissa in this new Wrap & Weave class where you will learn an alternative method to wrapping those beautiful healing crystals! Elevate them by adding a wire weave element to create wearable art! \nPre-payment is required for this class. Thank you for your understanding.\nPlease call us at 860-285-0538 to reserve your spot in class.\nCost is $30. Includes wire. Bring a cabochon or purchase one from our collection!
URL:https://mondazzi.com/event/wrap-weave-2/
LOCATION:Mondazzi Book\, Bead & Crystal Warehouse Showroom\, 570 Hayden Station Road\, Windsor\, CT\, 06095\, United States
CATEGORIES:Jewelry Classes
ATTACH;FMTTYPE=image/jpeg:https://mondazzi.com/wp-content/uploads/2023/10/Wrap-and-Weave.jpg
END:VEVENT
BEGIN:VEVENT
DTSTART;TZID=America/New_York:20260524T110000
DTEND;TZID=America/New_York:20260524T160000
DTSTAMP:20260421T014502
CREATED:20260421T013043Z
LAST-MODIFIED:20260421T013043Z
UID:8169-1779620400-1779638400@mondazzi.com
SUMMARY:Mina J. - Angels Card Reader
DESCRIPTION:Mondazzi’s is pleased to have Mina J. Angels Card reader at our shop! \nMina is a retired Social worker that served /family / adolescent / and seniors counselor for 43 years.\nShe is fully Bi-lingual ( English/ Spanish) \n“I retired almost 13 yrs ago and since then I have invested most of my time in learning about the spiritual world /mediumship and interpretation of Angels messages\, a Path I always loved and researched since I was a child but never had the opportunity to walk. To my surprise I realize I always had this intuition\, vision and guide to the World around me\, for many years the Universe was guiding me Into this Amazing path.” \nReadings are 25 minutes for $35. Please call us at 860-285-0538 to make your appointment. 24 hour cancellations are appreciated.
URL:https://mondazzi.com/event/mina-j-angels-card-reader-10/
LOCATION:Mondazzi Book\, Bead & Crystal Warehouse Showroom\, 570 Hayden Station Road\, Windsor\, CT\, 06095\, United States
CATEGORIES:Psychic & Other Readers
ATTACH;FMTTYPE=image/jpeg:https://mondazzi.com/wp-content/uploads/2021/11/angel-cloud.jpg
END:VEVENT
BEGIN:VEVENT
DTSTART;TZID=America/New_York:20260524T113000
DTEND;TZID=America/New_York:20260524T133000
DTSTAMP:20260421T014502
CREATED:20260414T211629Z
LAST-MODIFIED:20260414T211629Z
UID:8136-1779622200-1779629400@mondazzi.com
SUMMARY:Pea Pod Pendant
DESCRIPTION:Join Melissa to create a customizable Pea Pod Pendant! Excellent opportunity to learn Chevron skills. Choose your own beads (max 5) from a large selection. All materials included. \nClass is $30.00.\nPre-payment is necessary to reserve your place in class.\nPlease call us at 860-285-0538
URL:https://mondazzi.com/event/pea-pod-pendant/
LOCATION:Mondazzi Book\, Bead & Crystal Warehouse Showroom\, 570 Hayden Station Road\, Windsor\, CT\, 06095\, United States
CATEGORIES:Jewelry Classes
ATTACH;FMTTYPE=image/jpeg:https://mondazzi.com/wp-content/uploads/2025/01/Pea-Pod-Pendant.jpg
END:VEVENT
BEGIN:VEVENT
DTSTART;TZID=America/New_York:20260530T100000
DTEND;TZID=America/New_York:20260530T120000
DTSTAMP:20260421T014502
CREATED:20260414T212010Z
LAST-MODIFIED:20260414T222505Z
UID:8138-1780135200-1780142400@mondazzi.com
SUMMARY:Arrow Head Pendant
DESCRIPTION:With an arrow head\, some wire and a little time we will create a beautiful pendant simple and elegant to wear or use as a charm in other projects. \nPre-payment is required for this class. Thank you for your understanding. Please call us at 860-285-0538 to reserve your spot in class.\nClass is $30 includes wire. \nArrow head is purchased separately. They range from $3.00 on up.
URL:https://mondazzi.com/event/arrow-head-pendant-4/
LOCATION:Mondazzi Book\, Bead & Crystal Warehouse Showroom\, 570 Hayden Station Road\, Windsor\, CT\, 06095\, United States
CATEGORIES:Jewelry Classes
ATTACH;FMTTYPE=image/jpeg:https://mondazzi.com/wp-content/uploads/2026/04/Arrow-Head-Pendant-26.jpg
END:VEVENT
BEGIN:VEVENT
DTSTART;TZID=America/New_York:20260530T133000
DTEND;TZID=America/New_York:20260530T153000
DTSTAMP:20260421T014502
CREATED:20260421T002726Z
LAST-MODIFIED:20260421T002726Z
UID:8163-1780147800-1780155000@mondazzi.com
SUMMARY:Beginner's Tarot with Mary Ellen
DESCRIPTION:Have you been curious about the wisdom that comes from a tarot card reading ? Or wanted to learn about Tarot itself ? Take an afternoon to learn about the history and symbolism of the cards. Learn how numerology and astrology are used with the Tarot. This will be the start of a 4 week series to learn how to read – come and see the insight for yourself and for those around you. \nPlease call us at 860-285-0538 to reserve your spot in class.\nCost is $25\nPrepayment is necessary to hold your spot.
URL:https://mondazzi.com/event/beginners-tarot-with-mary-ellen/
LOCATION:Mondazzi Book\, Bead & Crystal Warehouse Showroom\, 570 Hayden Station Road\, Windsor\, CT\, 06095\, United States
CATEGORIES:Workshop or Special Event
ATTACH;FMTTYPE=image/jpeg:https://mondazzi.com/wp-content/uploads/2020/08/Tarot-The-Fools-Journey.jpg
END:VEVENT
BEGIN:VEVENT
DTSTART;TZID=America/New_York:20260531T113000
DTEND;TZID=America/New_York:20260531T133000
DTSTAMP:20260421T014502
CREATED:20260414T212201Z
LAST-MODIFIED:20260414T212201Z
UID:8141-1780227000-1780234200@mondazzi.com
SUMMARY:Hoop Earrings
DESCRIPTION:Join Melissa as we create some beautiful earrings and add to the way you can wear healing stones while still being fashionable. \nIn class we will be making two pairs of earrings\, one silver and one gold\, all metal and findings are included in price of class. \nThe beads needed can be purchased from shop’s amazing selection or bring yours from home. Each set will need approx 7-8 inches of beads.\nPlease call us at 860-285-0538 to reserve your spot in class.\nCost is $30. Includes wire and findings.
URL:https://mondazzi.com/event/hoop-earrings-2/
LOCATION:Mondazzi Book\, Bead & Crystal Warehouse Showroom\, 570 Hayden Station Road\, Windsor\, CT\, 06095\, United States
CATEGORIES:Jewelry Classes
ATTACH;FMTTYPE=image/jpeg:https://mondazzi.com/wp-content/uploads/2026/02/Hoop-Earrings-Class.jpg
END:VEVENT
END:VCALENDAR