BEGIN:VCALENDAR
VERSION:2.0
PRODID:-//Mondazzi Book,  Bead &amp; Crystal - ECPv6.15.20//NONSGML v1.0//EN
CALSCALE:GREGORIAN
METHOD:PUBLISH
X-WR-CALNAME:Mondazzi Book,  Bead &amp; Crystal
X-ORIGINAL-URL:https://mondazzi.com
X-WR-CALDESC:Events for Mondazzi Book,  Bead &amp; Crystal
REFRESH-INTERVAL;VALUE=DURATION:PT1H
X-Robots-Tag:noindex
X-PUBLISHED-TTL:PT1H
BEGIN:VTIMEZONE
TZID:America/New_York
BEGIN:DAYLIGHT
TZOFFSETFROM:-0500
TZOFFSETTO:-0400
TZNAME:EDT
DTSTART:20240310T070000
END:DAYLIGHT
BEGIN:STANDARD
TZOFFSETFROM:-0400
TZOFFSETTO:-0500
TZNAME:EST
DTSTART:20241103T060000
END:STANDARD
BEGIN:DAYLIGHT
TZOFFSETFROM:-0500
TZOFFSETTO:-0400
TZNAME:EDT
DTSTART:20250309T070000
END:DAYLIGHT
BEGIN:STANDARD
TZOFFSETFROM:-0400
TZOFFSETTO:-0500
TZNAME:EST
DTSTART:20251102T060000
END:STANDARD
BEGIN:DAYLIGHT
TZOFFSETFROM:-0500
TZOFFSETTO:-0400
TZNAME:EDT
DTSTART:20260308T070000
END:DAYLIGHT
BEGIN:STANDARD
TZOFFSETFROM:-0400
TZOFFSETTO:-0500
TZNAME:EST
DTSTART:20261101T060000
END:STANDARD
END:VTIMEZONE
BEGIN:VEVENT
DTSTART;TZID=America/New_York:20250705T100000
DTEND;TZID=America/New_York:20250705T170000
DTSTAMP:20260419T213124
CREATED:20250611T213018Z
LAST-MODIFIED:20250611T213018Z
UID:6187-1751709600-1751734800@mondazzi.com
SUMMARY:Dr. Patty II Beach - Tarot and Intuitive Transformational Guide
DESCRIPTION:Mondazzi’s is please to welcome Dr. Patty II Beach! \nDr. Patty is a Doctor of Divinity\, Doctor of Metaphysics & Spiritual Sciences\, and a Master Certified Tarot Reader & Intuitive Transformational Guide. As the founder of Elluminara\, Westfield MA\, she serves as a transformational catalyst and moon phase specialist\, guiding others through spiritual awakening and personal transformation. \nWith over 20 years of experience in intuitive guidance\, Dr. Patty’s journey began in childhood when a playful spirit in her attic sparked her awareness of the unseen world. However\, it was through the profound loss of her father that she reconnected with her natural intuitive gifts\, deepened her understanding of her ancestral roots\, and embraced the universe and the moon as her guiding forces. \nHer readings are a unique fusion of clairaudient and clairvoyant abilities\, intuition\, and multiple divination modalities. She masterfully integrates scrying\, multiple tarot and oracle decks\, and crystal energy\, offering deep and transformative insights.\nDr. Patty’s mission is clear: to provide guidance with love\, compassion\, empathy\, and integrity\, helping others navigate their spiritual paths with clarity and empowerment. \nReadings are 25 minutes for $35. Please call us at 860-285-0538 to make your appointment. 24 hour cancellations are appreciated.
URL:https://mondazzi.com/event/dr-patty-ii-beach-tarot-and-intuitive-transformational-guide-4/
LOCATION:Mondazzi Book\, Bead & Crystal Warehouse Showroom\, 570 Hayden Station Road\, Windsor\, CT\, 06095\, United States
CATEGORIES:Psychic & Other Readers
ATTACH;FMTTYPE=image/jpeg:https://mondazzi.com/wp-content/uploads/2025/03/Dr.-Patty-II-Beach-Tarot-and-Intuitive-Transformational-Guide.jpg
END:VEVENT
BEGIN:VEVENT
DTSTART;TZID=America/New_York:20250712T100000
DTEND;TZID=America/New_York:20250712T120000
DTSTAMP:20260419T213124
CREATED:20250611T212129Z
LAST-MODIFIED:20250611T212129Z
UID:6182-1752314400-1752321600@mondazzi.com
SUMMARY:Arrow Head Pendant
DESCRIPTION:With an arrow head\, some wire and a little time we will create a beautiful pendant simple and elegant to wear or use as a charm in other projects. \nPre-payment is required for this class. Thank you for your understanding. Please call us at 860-285-0538 to reserve your spot in class. \nClass is $30 includes wire. \nArrow head is purchased separately. They range from $3.00 on up.
URL:https://mondazzi.com/event/arrow-head-pendant/
LOCATION:Mondazzi Book\, Bead & Crystal Warehouse Showroom\, 570 Hayden Station Road\, Windsor\, CT\, 06095\, United States
CATEGORIES:Jewelry Classes
ATTACH;FMTTYPE=image/jpeg:https://mondazzi.com/wp-content/uploads/2025/06/Arrow-Head-Pendant.jpg
END:VEVENT
BEGIN:VEVENT
DTSTART;TZID=America/New_York:20250712T100000
DTEND;TZID=America/New_York:20250712T170000
DTSTAMP:20260419T213124
CREATED:20250616T191004Z
LAST-MODIFIED:20250616T191004Z
UID:6194-1752314400-1752339600@mondazzi.com
SUMMARY:Kathleen Lorraine - Psychic Medium and Reiki Practitioner
DESCRIPTION:Please welcome Kathleen Lorraine\, Psychic Medium/ Reiki Practitioner and Owner of An Angel’s Window Psychic Studio\, Somers\, CT\n“I am just a normal person blessed with an extraordinary gift. Although I have worked in the corporate field most of my life\, my true love is working in the spiritual world. I believe that God and the Universe guides us through our lives with the help of spirits and angels to keep us on track. \nHaving received my abilities at a young age\, I approach readings with a distinctive style. \nGuided by intuition and my spiritual guides\, I deliver true and accurate insights that deeply resonate with clients\, offering them profound clarity and answers to their questions. \nMy main focus is to bring love\, healing\, and awareness to others. I strive to guide them in opening their hearts and minds to enrich their lives with deeper meaning and fulfillment. \n“Just Believe and Watch the Magic Happen” – Kathleen Lorraine \nReadings are 25 minutes for $35. Please call us at 860-285-0538 to make your appointment. 24 hour cancellations are appreciated.
URL:https://mondazzi.com/event/kathleen-lorraine-psychic-medium-and-reiki-practitioner-5/
LOCATION:Mondazzi Book\, Bead & Crystal Warehouse Showroom\, 570 Hayden Station Road\, Windsor\, CT\, 06095\, United States
CATEGORIES:Psychic & Other Readers
ATTACH;FMTTYPE=image/jpeg:https://mondazzi.com/wp-content/uploads/2025/02/Kathleen-Lorraine-Psychic-Medium-and-Reiki-Practitioner.jpg
END:VEVENT
BEGIN:VEVENT
DTSTART;TZID=America/New_York:20250713T110000
DTEND;TZID=America/New_York:20250713T160000
DTSTAMP:20260419T213124
CREATED:20250623T214142Z
LAST-MODIFIED:20250623T214142Z
UID:6200-1752404400-1752422400@mondazzi.com
SUMMARY:Aura Photography with Marianne MacDonald
DESCRIPTION:Please welcome Marianne MacDonald of Inner Peace Aura Photography to Mondazzi’s! She comes to us with 30 years experience as a Licensed Massage Therapist and Reiki Master. Having developed the ability to see auras around people developed into Chakra balancing and Aura Photography to show people what she was seeing. \nAura readings give you a unique glimpse into your spiritual and energetic health\, unlike any other modality.\nIf you want to understand yourself better\, and why your life may not feel aligned\, an aura reading will give you the clarity you seek.\nKnowing exactly what state your energy and aura is in allows you to understand what steps must be taken\, physically\, mentally\, emotionally\, and spiritually\, to heal yourself on multiple levels. \nReadings are $40 for 25 minutes.\n(includes an Aura Photo with full report emailed to you) \nPlease call the shop to reserve your appointment at 860-285-0538. Prepayment is necessary to hold your spot. Walk in appointments upon availability.\n24 Hour Cancellation Is Appreciated.
URL:https://mondazzi.com/event/aura-photography-with-marianne-macdonald-11/
LOCATION:Mondazzi Book\, Bead & Crystal Warehouse Showroom\, 570 Hayden Station Road\, Windsor\, CT\, 06095\, United States
CATEGORIES:Workshop or Special Event
ATTACH;FMTTYPE=image/jpeg:https://mondazzi.com/wp-content/uploads/2024/06/aura-photography-with-marianne-macdonald.jpg
END:VEVENT
BEGIN:VEVENT
DTSTART;TZID=America/New_York:20250713T113000
DTEND;TZID=America/New_York:20250713T133000
DTSTAMP:20260419T213124
CREATED:20250611T211904Z
LAST-MODIFIED:20250611T211904Z
UID:6180-1752406200-1752413400@mondazzi.com
SUMMARY:Gemstone Tree of Life Pendant Class
DESCRIPTION:Come join Melissa in learning how to create your own Tree of Life Pendant. You may bring your own stone you wish to design or choose one of ours. Please come a little early if you need to pick out a stone \nCost $30 includes wire. Stone is separate you may bring your own or purchase one in the store.\nPrepayment is necessary to reserve your spot.\nPlease call us at 860-285-0538 . \nThe tree of life is a symbol of a fresh start on life\, positive energy\, good health and a bright future. As a symbol of immortality. A tree grows old\, yet it bears seeds that contain its very essence and in this way\, the tree becomes immortal. As a symbol of growth.
URL:https://mondazzi.com/event/gemstone-tree-of-life-pendant-class-15/
LOCATION:Mondazzi Book\, Bead & Crystal Warehouse Showroom\, 570 Hayden Station Road\, Windsor\, CT\, 06095\, United States
CATEGORIES:Jewelry Classes
ATTACH;FMTTYPE=image/jpeg:https://mondazzi.com/wp-content/uploads/2018/03/29356538_2094428300573521_1216874052975591424_n.jpg
END:VEVENT
BEGIN:VEVENT
DTSTART;TZID=America/New_York:20250719T100000
DTEND;TZID=America/New_York:20250719T120000
DTSTAMP:20260419T213124
CREATED:20250611T211641Z
LAST-MODIFIED:20250611T211641Z
UID:6178-1752919200-1752926400@mondazzi.com
SUMMARY:Beginners Wire Wrap
DESCRIPTION:Have you been wanting to learn how to wrap your own favorite crystals? By continued popular demand we have scheduled another beginners wire wrap class with Melissa. She will teach you a few techniques to wrap stones. \nPlease call us at 860-285-0538 to reserve your spot in class. Please note if you click going on the Facebook events page. You still need to call us with payment. \nPre-payment is required for this class. Thank you for your understanding.\nCost is $30. Includes all wire for pendant. \nStone is not included. You are welcome to bring your own crystal or stone to wrap. Just note that it is easiest to learn on a stone that is at least an inch in size. Bring a few and we can let you know which one is best.\n*We have also many stones available for sale.\n*Come early to pick out stones if needed.
URL:https://mondazzi.com/event/beginners-wire-wrap-53/
LOCATION:Mondazzi Book\, Bead & Crystal Warehouse Showroom\, 570 Hayden Station Road\, Windsor\, CT\, 06095\, United States
CATEGORIES:Jewelry Classes
ATTACH;FMTTYPE=image/jpeg:https://mondazzi.com/wp-content/uploads/2018/02/27545108_2043558878993797_4561587383043844672_n.jpg
END:VEVENT
BEGIN:VEVENT
DTSTART;TZID=America/New_York:20250719T100000
DTEND;TZID=America/New_York:20250719T170000
DTSTAMP:20260419T213124
CREATED:20250611T212813Z
LAST-MODIFIED:20250611T212813Z
UID:6185-1752919200-1752944400@mondazzi.com
SUMMARY:Tea Leaf/Rune Readings with John Moore
DESCRIPTION:John is one of our most popular readers! Call early to book an appointment!\nWe are pleased to announce he will be doing a day of Readings at our shop. \nJohn has been reading for over 30 years. His specialty is tea leaf readings. John is an intuitive reader multi disciplined in tarot\, ogham (Celtic Runes)\, and I Ching (Chinese fortune coins). \n$35 for 25 minutes \nPlease call us at 860-285-0538 to reserve your spot for a reading. Pre-payment is necessary to hold your specific time.\n24 Hour Cancellation is appreciated. Walk in appointments are upon availability.
URL:https://mondazzi.com/event/tea-leaf-rune-readings-with-john-moore-46/
LOCATION:Mondazzi Book\, Bead & Crystal Warehouse Showroom\, 570 Hayden Station Road\, Windsor\, CT\, 06095\, United States
CATEGORIES:Psychic & Other Readers
ATTACH;FMTTYPE=image/jpeg:https://mondazzi.com/wp-content/uploads/2019/06/runes-2.jpg
END:VEVENT
BEGIN:VEVENT
DTSTART;TZID=America/New_York:20250719T120000
DTEND;TZID=America/New_York:20250719T150000
DTSTAMP:20260419T213124
CREATED:20250714T214642Z
LAST-MODIFIED:20250714T220533Z
UID:6220-1752926400-1752937200@mondazzi.com
SUMMARY:Handpan Concert with Corey Hurrle
DESCRIPTION:We are pleased to have Corey here at Mondazzi’s playing for us! Come on down and have a listen. \nCorey has been playing drums and percussion for 30+ years. He has played with various bands through his career. After a struggle with alcohol addiction and personal losses\, Corey lost his passion for music and drifted away from playing for a time. \nWhile at home during the world wide shut down and now a few years sober Corey discovered the most beautiful melodic percussion instrument. The instrument was the Handpan\, right away Corey was in love and felt a reigniting of a passion to play once again.\nWhile on this journey of rediscovery Corey was introduced to Vibrational and Sound Healing. Which has brought together all aspects of Corey’s love of music and sound while at the same time being able to share his talents and passions with everyone. \nYou can email Corey for booking at: coreyhurrle@yahoo.com
URL:https://mondazzi.com/event/handpan-concert-with-corey-hurrle/
LOCATION:Mondazzi Book\, Bead & Crystal Warehouse Showroom\, 570 Hayden Station Road\, Windsor\, CT\, 06095\, United States
CATEGORIES:Workshop or Special Event
ATTACH;FMTTYPE=image/jpeg:https://mondazzi.com/wp-content/uploads/2025/07/Handpan-Concert-with-Corey-Hurrle.jpg
END:VEVENT
BEGIN:VEVENT
DTSTART;TZID=America/New_York:20250720T110000
DTEND;TZID=America/New_York:20250720T160000
DTSTAMP:20260419T213124
CREATED:20250707T203102Z
LAST-MODIFIED:20250707T203102Z
UID:6214-1753009200-1753027200@mondazzi.com
SUMMARY:Dr. Patty II Beach - Tarot and Intuitive Transformational Guide
DESCRIPTION:Mondazzi’s is pleased to welcome Dr. Patty II Beach! \nDr. Patty is a Doctor of Divinity\, Doctor of Metaphysics & Spiritual Sciences\, and a Master Certified Tarot Reader & Intuitive Transformational Guide. As the founder of Elluminara\, Westfield MA\, she serves as a transformational catalyst and moon phase specialist\, guiding others through spiritual awakening and personal transformation. \nWith over 20 years of experience in intuitive guidance\, Dr. Patty’s journey began in childhood when a playful spirit in her attic sparked her awareness of the unseen world. However\, it was through the profound loss of her father that she reconnected with her natural intuitive gifts\, deepened her understanding of her ancestral roots\, and embraced the universe and the moon as her guiding forces. \nHer readings are a unique fusion of clairaudient and clairvoyant abilities\, intuition\, and multiple divination modalities. She masterfully integrates scrying\, multiple tarot and oracle decks\, and crystal energy\, offering deep and transformative insights.\nDr. Patty’s mission is clear: to provide guidance with love\, compassion\, empathy\, and integrity\, helping others navigate their spiritual paths with clarity and empowerment. \nReadings are 25 minutes for $35. Please call us at 860-285-0538 to make your appointment. 24 hour cancellations are appreciated.
URL:https://mondazzi.com/event/dr-patty-ii-beach-tarot-and-intuitive-transformational-guide-5/
LOCATION:Mondazzi Book\, Bead & Crystal Warehouse Showroom\, 570 Hayden Station Road\, Windsor\, CT\, 06095\, United States
CATEGORIES:Psychic & Other Readers
ATTACH;FMTTYPE=image/jpeg:https://mondazzi.com/wp-content/uploads/2025/03/Dr.-Patty-II-Beach-Tarot-and-Intuitive-Transformational-Guide.jpg
END:VEVENT
BEGIN:VEVENT
DTSTART;TZID=America/New_York:20250720T113000
DTEND;TZID=America/New_York:20250720T133000
DTSTAMP:20260419T213124
CREATED:20250611T211518Z
LAST-MODIFIED:20250611T211518Z
UID:6176-1753011000-1753018200@mondazzi.com
SUMMARY:Wire Sphere Pendant
DESCRIPTION:Join Melissa in this newest class! Learn how to wrap those amazing spheres! This drop cage design is a beautiful way to turn one of those more amazing shapes into wearable art. \nPre-payment is required for this class. Thank you for your understanding. Please call us at 860-285-0538 to reserve your spot in class. \nClass is $30 includes wire.\nSphere is purchased separately. They range from $5.00 on up
URL:https://mondazzi.com/event/wire-sphere-pendant-5/
LOCATION:Mondazzi Book\, Bead & Crystal Warehouse Showroom\, 570 Hayden Station Road\, Windsor\, CT\, 06095\, United States
CATEGORIES:Jewelry Classes
ATTACH;FMTTYPE=image/jpeg:https://mondazzi.com/wp-content/uploads/2024/02/Wire-Sphere-Pendant.jpg
END:VEVENT
BEGIN:VEVENT
DTSTART;TZID=America/New_York:20250726T100000
DTEND;TZID=America/New_York:20250726T120000
DTSTAMP:20260419T213124
CREATED:20250616T190540Z
LAST-MODIFIED:20250616T190541Z
UID:6190-1753524000-1753531200@mondazzi.com
SUMMARY:Crystal Succulent
DESCRIPTION:Crystal meet potted plant in this fun class led by Melissa! Create your own personalized crystal plant. These crystal plants help to grow positive energies where ever they are! \nClass is $30 includes wire and pot. You get to purchase or bring beads of your choice. \nPre-payment is necessary to reserve your place in class.\nPlease call us at 860-285-0538
URL:https://mondazzi.com/event/crystal-succulent-2/
LOCATION:Mondazzi Book\, Bead & Crystal Warehouse Showroom\, 570 Hayden Station Road\, Windsor\, CT\, 06095\, United States
CATEGORIES:Workshop or Special Event
ATTACH;FMTTYPE=image/jpeg:https://mondazzi.com/wp-content/uploads/2025/05/497451143_1103465158491287_2796706676784903114_n.jpg
END:VEVENT
BEGIN:VEVENT
DTSTART;TZID=America/New_York:20250726T100000
DTEND;TZID=America/New_York:20250726T170000
DTSTAMP:20260419T213124
CREATED:20250616T190800Z
LAST-MODIFIED:20250616T190800Z
UID:6192-1753524000-1753549200@mondazzi.com
SUMMARY:Intuitive\, Empathic Tarot Card Reader Deborah Page
DESCRIPTION:Deborah is a Reiki Master/Teacher and an Intuitive\, Empathic Tarot card Reader.\nDeborah infuses her readings with Reiki. \nShe connects her energy with your energy and the energy of the cards\, giving you some insight into a current situation and information to help move forward. \nReadings are $35 for 30 minutes\n24 Hour Cancellation Is Appreciated. \nPlease call the shop to reserve your appointment at 860-285-0538. Prepayment is necessary to hold your spot. Walk in appointments upon availability.
URL:https://mondazzi.com/event/intuitive-empathic-tarot-card-reader-deborah-page-5/
LOCATION:Mondazzi Book\, Bead & Crystal Warehouse Showroom\, 570 Hayden Station Road\, Windsor\, CT\, 06095\, United States
CATEGORIES:Psychic & Other Readers
ATTACH;FMTTYPE=image/jpeg:https://mondazzi.com/wp-content/uploads/2023/12/Deborah-Page-Tarot-Card-Reader.jpg
END:VEVENT
BEGIN:VEVENT
DTSTART;TZID=America/New_York:20250726T133000
DTEND;TZID=America/New_York:20250726T153000
DTSTAMP:20260419T213124
CREATED:20250625T165814Z
LAST-MODIFIED:20250625T220509Z
UID:6202-1753536600-1753543800@mondazzi.com
SUMMARY:Dream Sorcery: The Alchemy of Lucid Dreaming Class and Book Signing
DESCRIPTION:Join occultist and author Nikki Wardwell Sleath for teachings on lucid dreaming for the magickally inclined. Receive tips on why this is so important for spiritual growth and on how to work on cultivating fully lucid dreams. We will discuss magick that can be done effectively within the lucid space\, and explore the philosophical and alchemical parallels that exist in this magick. \nTime will be allotted after the talk for Q&A and book signing. For more about Nikki\, her background\, offerings and books\, visit www.nikkiwardwellsleath.com. \nThis class is $25 per person and should be reserved through Mondazzi. Please call (860) 285-0538.
URL:https://mondazzi.com/event/dream-sorcery-the-alchemy-of-lucid-dreaming-class-and-book-signing/
LOCATION:Mondazzi Book\, Bead & Crystal Warehouse Showroom\, 570 Hayden Station Road\, Windsor\, CT\, 06095\, United States
CATEGORIES:Workshop or Special Event
ATTACH;FMTTYPE=image/jpeg:https://mondazzi.com/wp-content/uploads/2025/06/Dream-Sorcery.jpg
END:VEVENT
BEGIN:VEVENT
DTSTART;TZID=America/New_York:20250727T110000
DTEND;TZID=America/New_York:20250727T160000
DTSTAMP:20260419T213124
CREATED:20250704T193638Z
LAST-MODIFIED:20250727T002320Z
UID:6209-1753614000-1753632000@mondazzi.com
SUMMARY:Intuitive Readings with Maryellen Norton - SOLD OUT
DESCRIPTION:Sorry\, all reading times have been booked.\nPlease stay tuned for future dates. \nMaryellen Norton Psychic Intuitive has been a reader for over 40 years. A gifted intuitive\, she specializes in tarot and psychometry (picking up vibrations and information about your life by holding a personal object of yours). Her readings examine where you are mentally\, spiritually\, physically and emotionally to reveal patterns and challenges and provide insight into your life. She’s read in a variety of venues\, including universities\, Foxwoods casino\, expos\, fairs\, and stores. \nReadings are $35 for 25 minutes\n24 Hour Cancellation Is Appreciated. \nPlease call the shop to reserve your appointment at 860-285-0538. Prepayment is necessary to hold your spot. Walk in appointments upon availability.
URL:https://mondazzi.com/event/intuitive-readings-with-maryellen-norton-49/
LOCATION:Mondazzi Book\, Bead & Crystal Warehouse Showroom\, 570 Hayden Station Road\, Windsor\, CT\, 06095\, United States
CATEGORIES:Psychic & Other Readers
ATTACH;FMTTYPE=image/jpeg:https://mondazzi.com/wp-content/uploads/2023/10/default-2.jpg
END:VEVENT
BEGIN:VEVENT
DTSTART;TZID=America/New_York:20250727T113000
DTEND;TZID=America/New_York:20250727T143000
DTSTAMP:20260419T213124
CREATED:20250630T191504Z
LAST-MODIFIED:20250721T182906Z
UID:6205-1753615800-1753626600@mondazzi.com
SUMMARY:Tree of Life Sun Catcher - SOLD OUT
DESCRIPTION:Sorry\, this class is sold out. Please stay tuned for future dates. \nThis amazing Tree of Life Sun Catcher is an opportunity to personalize your own tree with beads of your choice. They can be hung indoors or outside\, adding beauty anywhere. \nClass is $35.00 and includes these materials (4″ ring & Wire). Tree beads/chip beads are available for sale $5 and up. \nPre-payment is necessary to reserve your place in class.\nPlease call us at 860-285-0538
URL:https://mondazzi.com/event/tree-of-life-sun-catcher-2/
LOCATION:Mondazzi Book\, Bead & Crystal Warehouse Showroom\, 570 Hayden Station Road\, Windsor\, CT\, 06095\, United States
CATEGORIES:Workshop or Special Event
ATTACH;FMTTYPE=image/jpeg:https://mondazzi.com/wp-content/uploads/2025/05/Tree-of-Life-Sun-Catcher.jpg
END:VEVENT
END:VCALENDAR