BEGIN:VCALENDAR
VERSION:2.0
PRODID:-//Mondazzi Book,  Bead &amp; Crystal - ECPv6.15.20//NONSGML v1.0//EN
CALSCALE:GREGORIAN
METHOD:PUBLISH
X-WR-CALNAME:Mondazzi Book,  Bead &amp; Crystal
X-ORIGINAL-URL:https://mondazzi.com
X-WR-CALDESC:Events for Mondazzi Book,  Bead &amp; Crystal
REFRESH-INTERVAL;VALUE=DURATION:PT1H
X-Robots-Tag:noindex
X-PUBLISHED-TTL:PT1H
BEGIN:VTIMEZONE
TZID:America/New_York
BEGIN:DAYLIGHT
TZOFFSETFROM:-0500
TZOFFSETTO:-0400
TZNAME:EDT
DTSTART:20250309T070000
END:DAYLIGHT
BEGIN:STANDARD
TZOFFSETFROM:-0400
TZOFFSETTO:-0500
TZNAME:EST
DTSTART:20251102T060000
END:STANDARD
BEGIN:DAYLIGHT
TZOFFSETFROM:-0500
TZOFFSETTO:-0400
TZNAME:EDT
DTSTART:20260308T070000
END:DAYLIGHT
BEGIN:STANDARD
TZOFFSETFROM:-0400
TZOFFSETTO:-0500
TZNAME:EST
DTSTART:20261101T060000
END:STANDARD
BEGIN:DAYLIGHT
TZOFFSETFROM:-0500
TZOFFSETTO:-0400
TZNAME:EDT
DTSTART:20270314T070000
END:DAYLIGHT
BEGIN:STANDARD
TZOFFSETFROM:-0400
TZOFFSETTO:-0500
TZNAME:EST
DTSTART:20271107T060000
END:STANDARD
END:VTIMEZONE
BEGIN:VEVENT
DTSTART;TZID=America/New_York:20260103T100000
DTEND;TZID=America/New_York:20260103T150000
DTSTAMP:20260419T095830
CREATED:20251215T001331Z
LAST-MODIFIED:20251215T001331Z
UID:6490-1767434400-1767452400@mondazzi.com
SUMMARY:Intuitive\, Empathic Tarot Card Reader Deborah Page
DESCRIPTION:Deborah is a Reiki Master/Teacher and an Intuitive\, Empathic Tarot card Reader.\nDeborah infuses her readings with Reiki. \nShe connects her energy with your energy and the energy of the cards\, giving you some insight into a current situation and information to help move forward. \nReadings are $35 for 30 minutes\n24 Hour Cancellation Is Appreciated.\nPlease call the shop to reserve your appointment at 860-285-0538. Prepayment is necessary to hold your spot. Walk in appointments upon availability.
URL:https://mondazzi.com/event/intuitive-empathic-tarot-card-reader-deborah-page-8/
LOCATION:Mondazzi Book\, Bead & Crystal Warehouse Showroom\, 570 Hayden Station Road\, Windsor\, CT\, 06095\, United States
CATEGORIES:Psychic & Other Readers
ATTACH;FMTTYPE=image/jpeg:https://mondazzi.com/wp-content/uploads/2023/12/Deborah-Page-Tarot-Card-Reader.jpg
END:VEVENT
BEGIN:VEVENT
DTSTART;TZID=America/New_York:20260104T110000
DTEND;TZID=America/New_York:20260104T160000
DTSTAMP:20260419T095830
CREATED:20251231T194724Z
LAST-MODIFIED:20251231T194724Z
UID:6990-1767524400-1767542400@mondazzi.com
SUMMARY:Mina J. - Angels Card Reader
DESCRIPTION:Mondazzi’s is pleased to welcome Mina J. Angels Card reader to our shop! \nMina is a retired Social worker that served /family / adolescent / and seniors counselor for 43 years.\nShe is fully Bi-lingual ( English/ Spanish) \n“I retired almost 13 yrs ago and since then I have invested most of my time in learning about the spiritual world /mediumship and interpretation of Angels messages\, a Path I always loved and researched since I was a child but never had the opportunity to walk. To my surprise I realize I always had this intuition\, vision and guide to the World around me\, for many years the Universe was guiding me Into this Amazing path.” \nReadings are 25 minutes for $35. Please call us at 860-285-0538 to make your appointment. 24 hour cancellations are appreciated.
URL:https://mondazzi.com/event/mina-j-angels-card-reader-6/
LOCATION:Mondazzi Book\, Bead & Crystal Warehouse Showroom\, 570 Hayden Station Road\, Windsor\, CT\, 06095\, United States
CATEGORIES:Psychic & Other Readers
ATTACH;FMTTYPE=image/jpeg:https://mondazzi.com/wp-content/uploads/2021/11/angel-cloud.jpg
END:VEVENT
BEGIN:VEVENT
DTSTART;TZID=America/New_York:20260110T133000
DTEND;TZID=America/New_York:20260110T153000
DTSTAMP:20260419T095830
CREATED:20251230T013641Z
LAST-MODIFIED:20251230T013641Z
UID:6936-1768051800-1768059000@mondazzi.com
SUMMARY:Astrology - Just the Basics
DESCRIPTION:We are pleased to have Mary Ellen Norton teaching again! Join her to learn all about Astrology! \nAn introduction to Astrology\, where you will learn the polarities of each sign as well as the elements -earth\, air\, fire and water and what element drives you each day. There is no prior experience needed for this class. Come and explore the language of astrology for your own knowledge and dealing with other’s personalities. \nPre-payment is required for this class. Thank you for your understanding. Class is $25\nPlease call us at 860-285-0538 to reserve your spot in class.
URL:https://mondazzi.com/event/astrology-just-the-basics/
LOCATION:Mondazzi Book\, Bead & Crystal Warehouse Showroom\, 570 Hayden Station Road\, Windsor\, CT\, 06095\, United States
CATEGORIES:Workshop or Special Event
ATTACH;FMTTYPE=image/jpeg:https://mondazzi.com/wp-content/uploads/2025/12/Astrology-Just-The-Basics.jpg
END:VEVENT
BEGIN:VEVENT
DTSTART;TZID=America/New_York:20260117T100000
DTEND;TZID=America/New_York:20260117T160000
DTSTAMP:20260419T095830
CREATED:20251224T195128Z
LAST-MODIFIED:20260109T203132Z
UID:6757-1768644000-1768665600@mondazzi.com
SUMMARY:Aura Photography with Marianne MacDonald - SOLD OUT
DESCRIPTION:Sorry\, this event is sold out. Please stay tuned for future dates. \nShe sold out in December! Call early for an appointment! \nPlease welcome Marianne MacDonald of Inner Peace Aura Photography to Mondazzi’s! She comes to us with 30 years experience as a Licensed Massage Therapist and Reiki Master. Having developed the ability to see auras around people developed into Chakra balancing and Aura Photography to show people what she was seeing. \nAura readings give you a unique glimpse into your spiritual and energetic health\, unlike any other modality. \nIf you want to understand yourself better\, and why your life may not feel aligned\, an aura reading will give you the clarity you seek. \nKnowing exactly what state your energy and aura is in allows you to understand what steps must be taken\, physically\, mentally\, emotionally\, and spiritually\, to heal yourself on multiple levels.\nMarianne sells out every month\, call early for best times! \nReadings are $40 for 25 minutes.\n(includes an Aura Photo with full report emailed to you)\nPlease call the shop to reserve your appointment at 860-285-0538. Prepayment is necessary to hold your spot. Walk in appointments upon availability.\n24 Hour Cancellation Is Appreciated.
URL:https://mondazzi.com/event/aura-photography-with-marianne-macdonald-17/
LOCATION:Mondazzi Book\, Bead & Crystal Warehouse Showroom\, 570 Hayden Station Road\, Windsor\, CT\, 06095\, United States
CATEGORIES:Workshop or Special Event
ATTACH;FMTTYPE=image/jpeg:https://mondazzi.com/wp-content/uploads/2024/06/aura-photography-with-marianne-macdonald.jpg
END:VEVENT
BEGIN:VEVENT
DTSTART;TZID=America/New_York:20260118T110000
DTEND;TZID=America/New_York:20260118T160000
DTSTAMP:20260419T095830
CREATED:20251224T195245Z
LAST-MODIFIED:20260112T203305Z
UID:6759-1768734000-1768752000@mondazzi.com
SUMMARY:Mediumship & Divination Readings - SOLD OUT
DESCRIPTION:Sorry\, all reading times have been booked.\nPlease stay tuned for future dates. \nNaomi will connect with your spirit team and channel messages from a deceased loved one or a spirit guide (non-human energies invested in your wellbeing) with messages about your life’s path and purpose. Using tarot and norse runes she will also provide insight on current life circumstances. \nThrough mediumship\, intuitive readings and metaphysical classes\, it’s Naomi’s goals to provide people with something they can use to connect with their deepest selves in an illuminating way. There is so much richness\, untapped potential\, support and growth with spiritual work. \nCost: $35 for 25 minutes\nTo Register Call: 860-285-0538\n*Please register in advance*\n24 Hour Cancellation is appreciated.
URL:https://mondazzi.com/event/mediumship-divination-readings-6/
LOCATION:Mondazzi Book\, Bead & Crystal Warehouse Showroom\, 570 Hayden Station Road\, Windsor\, CT\, 06095\, United States
CATEGORIES:Psychic & Other Readers
ATTACH;FMTTYPE=image/jpeg:https://mondazzi.com/wp-content/uploads/2025/04/Naomi-April25.jpg
END:VEVENT
BEGIN:VEVENT
DTSTART;TZID=America/New_York:20260124T100000
DTEND;TZID=America/New_York:20260124T170000
DTSTAMP:20260419T095830
CREATED:20251230T012930Z
LAST-MODIFIED:20260124T001619Z
UID:6932-1769248800-1769274000@mondazzi.com
SUMMARY:Dr. Patty II Beach - Tarot and Intuitive Transformational Guide
DESCRIPTION:Dr. Patty is a Doctor of Divinity and Doctor of Metaphysics & Spiritual Sciences\, and a Master Certified Tarot Reader and Intuitive Guide with over 20 years of experience in intuitive and spiritual work. As the founder of Elluminara in Westfield\, MA\, she offers tarot-centered readings that blend intuition\, clairvoyant insight\, and multiple divination modalities\, including oracle cards\, scrying\, and crystal energy. Her work focuses on presence\, pattern recognition\, and personal transformation\, supporting clients as they gain clarity around life transitions\, spiritual growth\, and inner awareness. Dr. Patty approaches her work with compassion\, empathy\, and integrity\, creating a grounded and supportive space for meaningful insight. \nReadings are 25 minutes for $35.\nPlease call us at 860-285-0538 to make your appointment. 24 hour cancellations are appreciated.
URL:https://mondazzi.com/event/dr-patty-ii-beach-tarot-and-intuitive-transformational-guide-14/
LOCATION:Mondazzi Book\, Bead & Crystal Warehouse Showroom\, 570 Hayden Station Road\, Windsor\, CT\, 06095\, United States
CATEGORIES:Psychic & Other Readers
ATTACH;FMTTYPE=image/jpeg:https://mondazzi.com/wp-content/uploads/2025/12/Dr-Patty-Jan-2026.jpg
END:VEVENT
BEGIN:VEVENT
DTSTART;TZID=America/New_York:20260131T100000
DTEND;TZID=America/New_York:20260131T120000
DTSTAMP:20260419T095830
CREATED:20251215T004234Z
LAST-MODIFIED:20251215T004234Z
UID:6500-1769853600-1769860800@mondazzi.com
SUMMARY:Drop cage Fidget Spinner Pendant
DESCRIPTION:The drop cage was a huge success but let’s take it to another level! With a sphere shaped crystal we will create a wearable fidget spinner! Function and beauty all in one! Bring your own sphere or choose from the many available in the store. \nPre-payment is required for this class. Thank you for your understanding. Please call us at 860-285-0538 to reserve your spot in class. \nClass is $30 includes wire.\nSphere is purchased separately. They range from $5.00 on up.
URL:https://mondazzi.com/event/drop-cage-fidget-spinner-pendant-2/
LOCATION:Mondazzi Book\, Bead & Crystal Warehouse Showroom\, 570 Hayden Station Road\, Windsor\, CT\, 06095\, United States
CATEGORIES:Jewelry Classes
ATTACH;FMTTYPE=image/jpeg:https://mondazzi.com/wp-content/uploads/2025/10/Drop-cage-Fidget-Spinner-Pendant.jpg
END:VEVENT
BEGIN:VEVENT
DTSTART;TZID=America/New_York:20260131T100000
DTEND;TZID=America/New_York:20260131T170000
DTSTAMP:20260419T095830
CREATED:20251230T013136Z
LAST-MODIFIED:20251230T013136Z
UID:6934-1769853600-1769878800@mondazzi.com
SUMMARY:Tea Leaf / Rune Readings with John Moore
DESCRIPTION:John is one of our most popular readers! Call early to book an appointment! \nWe are pleased to announce he will be doing a day of Readings at our shop.\nJohn has been reading for over 30 years. His specialty is tea leaf readings. John is an intuitive reader multi disciplined in tarot\, ogham (Celtic Runes)\, and I Ching (Chinese fortune coins). \n$35 for 25 minutes\nPlease call us at 860-285-0538 to reserve your spot for a reading. Pre-payment is necessary to hold your specific time.\n24 Hour Cancellation is appreciated. Walk in appointments are upon availability.
URL:https://mondazzi.com/event/tea-leaf-rune-readings-with-john-moore-51/
LOCATION:Mondazzi Book\, Bead & Crystal Warehouse Showroom\, 570 Hayden Station Road\, Windsor\, CT\, 06095\, United States
CATEGORIES:Psychic & Other Readers
ATTACH;FMTTYPE=image/jpeg:https://mondazzi.com/wp-content/uploads/2019/06/runes-2.jpg
END:VEVENT
END:VCALENDAR